BEGIN:VCALENDAR
VERSION:2.0
PRODID:-//www.arcfc.org//NONSGML kigkonsult.se iCalcreator 2.30.10//
CALSCALE:GREGORIAN
METHOD:PUBLISH
UID:a03a345d-7044-40c4-a8f9-2b325c452bb0
X-WR-CALDESC:Dance the night away to salsa\, bachata\, and Latin music at S
 ky Stage!  Music provided by DJ Willie.  Snacks and adult beverages are av
 ailable for sale.  Suggested cash cover: $5.
X-WR-RELCALID:c16e2e642db5d8feae02d4602756a02f
X-WR-TIMEZONE:America/New_York
BEGIN:VTIMEZONE
TZID:America/New_York
BEGIN:STANDARD
TZNAME:EST
DTSTART:20241103T020000
TZOFFSETFROM:-0400
TZOFFSETTO:-0500
RDATE:20251102T020000
RDATE:20261101T020000
END:STANDARD
BEGIN:DAYLIGHT
TZNAME:EDT
DTSTART:20250309T020000
TZOFFSETFROM:-0500
TZOFFSETTO:-0400
RDATE:20260308T020000
END:DAYLIGHT
END:VTIMEZONE
BEGIN:VEVENT
UID:058b0a1e-4b12-4194-ba61-bdb0d388aecd
DTSTAMP:20260425T225551Z
DESCRIPTION:Dance the night away to salsa\, bachata\, and Latin music at Sk
 y Stage!  Music provided by DJ Willie.  Snacks and adult beverages are ava
 ilable for sale.  Suggested cash cover: $5.
DTSTART;TZID=America/New_York:20250521T190000
DTEND;TZID=America/New_York:20250521T220000
LOCATION:Sky Stage\, 59 South Carroll Street\, Frederick\, MD 21701 US
SUMMARY:Salsa & Bachata Dancing at Sky Stage
END:VEVENT
END:VCALENDAR
