BEGIN:VCALENDAR
VERSION:2.0
PRODID:-//www.arcfc.org//NONSGML kigkonsult.se iCalcreator 2.30.10//
CALSCALE:GREGORIAN
METHOD:PUBLISH
UID:0ac84e47-a82f-42ef-8241-463853f04595
X-WR-CALDESC:The Go Team Therapy Dogs are coming back to the Brunswick Libr
 ary! We invite all adults with developmental disabilities to join us for t
 his fun\, sensory event.
X-WR-RELCALID:1c72185ac9f5e72a7eb45c191d059f60
X-WR-TIMEZONE:America/New_York
BEGIN:VTIMEZONE
TZID:America/New_York
BEGIN:STANDARD
TZNAME:EST
DTSTART:20241103T020000
TZOFFSETFROM:-0400
TZOFFSETTO:-0500
RDATE:20251102T020000
RDATE:20261101T020000
END:STANDARD
BEGIN:DAYLIGHT
TZNAME:EDT
DTSTART:20250309T020000
TZOFFSETFROM:-0500
TZOFFSETTO:-0400
RDATE:20260308T020000
END:DAYLIGHT
END:VTIMEZONE
BEGIN:VEVENT
UID:d2a20c9f-31ff-4207-87e2-b0d3e4d30f68
DTSTAMP:20260425T230458Z
DESCRIPTION:The Go Team Therapy Dogs are coming back to the Brunswick Libra
 ry! We invite all adults with developmental disabilities to join us for th
 is fun\, sensory event.
DTSTART;TZID=America/New_York:20250516T110000
DTEND;TZID=America/New_York:20250516T120000
LOCATION:Brunswick Branch Library\, 915 North Maple Avenue\, Brunswick\, MD
  21716 US
SUMMARY:Go Team Therapy Dogs: A Sensory Program for Adults with Development
 al Disabilities @ Brunswick Library
END:VEVENT
END:VCALENDAR
