BEGIN:VCALENDAR
VERSION:2.0
PRODID:-//www.arcfc.org//NONSGML kigkonsult.se iCalcreator 2.30.10//
CALSCALE:GREGORIAN
METHOD:PUBLISH
UID:50c132c6-c4f0-4638-a251-7ec8492a9da1
X-WR-CALDESC:The purpose of Global Accessibility Awareness Day (GAAD) is to
  get everyone talking\, thinking and learning about digital access/inclusi
 on and people with different disabilities. Digital accessibility refers to
  the ability of people with disabilities/impairments to independently cons
 ume and/or interact with digital (e.g.\, web\, mobile) applications and co
 ntent. Take a look at WebAIM’s The WebAIM Million\, for a current snapshot
  of trends and issues regarding web accessibility.
X-WR-RELCALID:ba8993895255206a2b210bc7d055ff9e
X-WR-TIMEZONE:America/New_York
BEGIN:VTIMEZONE
TZID:America/New_York
BEGIN:STANDARD
TZNAME:EST
DTSTART:20241103T020000
TZOFFSETFROM:-0400
TZOFFSETTO:-0500
RDATE:20251102T020000
RDATE:20261101T020000
END:STANDARD
BEGIN:DAYLIGHT
TZNAME:EDT
DTSTART:20250309T020000
TZOFFSETFROM:-0500
TZOFFSETTO:-0400
RDATE:20260308T020000
END:DAYLIGHT
END:VTIMEZONE
BEGIN:VEVENT
UID:c04d55dd-937a-4a69-b70f-cb4b8e777175
DTSTAMP:20260425T230337Z
DESCRIPTION:The purpose of Global Accessibility Awareness Day (GAAD) is to 
 get everyone talking\, thinking and learning about digital access/inclusio
 n and people with different disabilities. Digital accessibility refers to 
 the ability of people with disabilities/impairments to independently consu
 me and/or interact with digital (e.g.\, web\, mobile) applications and con
 tent. Take a look at WebAIM’s The WebAIM Million\, for a current snapshot 
 of trends and issues regarding web accessibility.
DTSTART;TZID=America/New_York:20250515T060000
DTEND;TZID=America/New_York:20250515T060001
LOCATION:
SUMMARY:Global Accessibility Awareness Day
END:VEVENT
END:VCALENDAR
