BEGIN:VCALENDAR
VERSION:2.0
PRODID:-//www.arcfc.org//NONSGML kigkonsult.se iCalcreator 2.30.10//
CALSCALE:GREGORIAN
METHOD:PUBLISH
UID:d1a9231f-af0d-4e66-acfb-32acbc9bc1ac
X-WR-CALDESC:This meeting\, we will talk about a mission statement for our 
 group and work together as a group to write one.  Pizza and drinks will be
  provided.  Please RSVP to Megan Dewing.
X-WR-RELCALID:6f7a411a857dc7a1a1f1abf86d939e6f
X-WR-TIMEZONE:America/New_York
BEGIN:VTIMEZONE
TZID:America/New_York
BEGIN:STANDARD
TZNAME:EST
DTSTART:20241103T020000
TZOFFSETFROM:-0400
TZOFFSETTO:-0500
RDATE:20251102T020000
RDATE:20261101T020000
END:STANDARD
BEGIN:DAYLIGHT
TZNAME:EDT
DTSTART:20250309T020000
TZOFFSETFROM:-0500
TZOFFSETTO:-0400
RDATE:20260308T020000
END:DAYLIGHT
END:VTIMEZONE
BEGIN:VEVENT
UID:567d90dd-71ec-400c-bf71-2585f6c45015
DTSTAMP:20260425T225251Z
DESCRIPTION:This meeting\, we will talk about a mission statement for our g
 roup and work together as a group to write one.  Pizza and drinks will be 
 provided.  Please RSVP to Megan Dewing.
DTSTART;TZID=America/New_York:20250514T160000
DTEND;TZID=America/New_York:20250514T180000
LOCATION:The Arc at Market Street\, 555 South Market Street\, Frederick\, M
 D 21701 US
SUMMARY:Frederick Self Advocacy Group
END:VEVENT
END:VCALENDAR
