BEGIN:VCALENDAR
VERSION:2.0
PRODID:-//www.arcfc.org//NONSGML kigkonsult.se iCalcreator 2.30.10//
CALSCALE:GREGORIAN
METHOD:PUBLISH
UID:94eae948-2ed2-4c3d-b9b7-bfd4c1d232af
X-WR-CALDESC:These sessions are to help with focusing on writing the letter
  of intent one section at a time\, at your own pace with support for any q
 uestions.  You do not need to attend all of the sessions if you are not ab
 le to make all of them.  Please come to as many as you are able.
X-WR-RELCALID:7628da3339b2b58fb48c55c1218ea8a2
X-WR-TIMEZONE:America/New_York
BEGIN:VTIMEZONE
TZID:America/New_York
BEGIN:STANDARD
TZNAME:EST
DTSTART:20241103T020000
TZOFFSETFROM:-0400
TZOFFSETTO:-0500
RDATE:20251102T020000
RDATE:20261101T020000
END:STANDARD
BEGIN:DAYLIGHT
TZNAME:EDT
DTSTART:20250309T020000
TZOFFSETFROM:-0500
TZOFFSETTO:-0400
RDATE:20260308T020000
END:DAYLIGHT
END:VTIMEZONE
BEGIN:VEVENT
UID:b520df63-0ee8-4130-9bf7-ac52338d18c7
DTSTAMP:20260425T230743Z
DESCRIPTION:These sessions are to help with focusing on writing the letter 
 of intent one section at a time\, at your own pace with support for any qu
 estions.  You do not need to attend all of the sessions if you are not abl
 e to make all of them.  Please come to as many as you are able.
DTSTART;TZID=America/New_York:20250514T173000
DTEND;TZID=America/New_York:20250514T183000
LOCATION:The Arc at Market Street\, 555 South Market Street\, Frederick\, M
 D 21701 US
SUMMARY:Autism Waiver Future Planning Follow-Up Letter-Writing Session
END:VEVENT
END:VCALENDAR
