BEGIN:VCALENDAR
VERSION:2.0
PRODID:-//www.arcfc.org//NONSGML kigkonsult.se iCalcreator 2.30.10//
CALSCALE:GREGORIAN
METHOD:PUBLISH
UID:55afc4ab-bfa6-427c-93ec-db99b0f17983
X-WR-CALDESC:Come sip some coffee and join us for the next stop in our book
  club adventure!  This month's featured book is Justice League\, Volume 1:
  Origin from The New 52.  RSVP by clicking the link below to let us know y
 ou're coming.
X-WR-RELCALID:d9a5311c4376b20a586bd41235da7f97
X-WR-TIMEZONE:America/New_York
BEGIN:VTIMEZONE
TZID:America/New_York
BEGIN:STANDARD
TZNAME:EST
DTSTART:20241103T020000
TZOFFSETFROM:-0400
TZOFFSETTO:-0500
RDATE:20251102T020000
RDATE:20261101T020000
END:STANDARD
BEGIN:DAYLIGHT
TZNAME:EDT
DTSTART:20250309T020000
TZOFFSETFROM:-0500
TZOFFSETTO:-0400
RDATE:20260308T020000
END:DAYLIGHT
END:VTIMEZONE
BEGIN:VEVENT
UID:51f8e149-103c-4a2f-b285-23cdf139e679
DTSTAMP:20260425T230342Z
DESCRIPTION:Come sip some coffee and join us for the next stop in our book 
 club adventure!  This month's featured book is Justice League\, Volume 1: 
 Origin from The New 52.  RSVP by clicking the link below to let us know yo
 u're coming.
DTSTART;TZID=America/New_York:20250502T110000
DTEND;TZID=America/New_York:20250502T120000
LOCATION:Dublin Roasters Coffeehouse\, 1780 North Market Street\, Frederick
 \, MD 21701 US
SUMMARY:Reading Without Barriers Book Club
END:VEVENT
END:VCALENDAR
