BEGIN:VCALENDAR
VERSION:2.0
PRODID:-//www.arcfc.org//NONSGML kigkonsult.se iCalcreator 2.30.10//
CALSCALE:GREGORIAN
METHOD:PUBLISH
UID:447011c7-5a39-4156-b3d6-57ae6f9d41ab
X-WR-CALDESC:Mayta's Peruvian Cuisine is hosting a special fundraiser in ho
 nor of Autism Acceptance Month!  On Wednesday\, April 23rd\, they will don
 ate 10% of all profits to The Arc of Frederick County.
X-WR-RELCALID:31170614d5cc59fb8c8fcd52d470568a
X-WR-TIMEZONE:America/New_York
BEGIN:VTIMEZONE
TZID:America/New_York
BEGIN:STANDARD
TZNAME:EST
DTSTART:20241103T020000
TZOFFSETFROM:-0400
TZOFFSETTO:-0500
RDATE:20251102T020000
END:STANDARD
BEGIN:DAYLIGHT
TZNAME:EDT
DTSTART:20250309T020000
TZOFFSETFROM:-0500
TZOFFSETTO:-0400
RDATE:20260308T020000
END:DAYLIGHT
END:VTIMEZONE
BEGIN:VEVENT
UID:21f9c1fa-25cd-43e9-92f9-fa5344912b40
DTSTAMP:20260426T003427Z
DESCRIPTION:Mayta's Peruvian Cuisine is hosting a special fundraiser in hon
 or of Autism Acceptance Month!  On Wednesday\, April 23rd\, they will dona
 te 10% of all profits to The Arc of Frederick County.
DTSTART;TZID=America/New_York:20250423T110000
DTEND;TZID=America/New_York:20250423T210000
LOCATION:Mayta's Peruvian Cuisine\, 5010 Buckeystown Pike\, Suite 148\, Fre
 derick\, MD 21704 US
SUMMARY:Mayta's Peruvian Cuisine Fundraiser
END:VEVENT
END:VCALENDAR
