BEGIN:VCALENDAR
VERSION:2.0
PRODID:-//www.arcfc.org//NONSGML kigkonsult.se iCalcreator 2.30.10//
CALSCALE:GREGORIAN
METHOD:PUBLISH
UID:3c2fe840-3342-47c3-b280-facef8736c6a
X-WR-CALDESC:Pizza and drinks will be provided.  Please RSVP to Megan Dewin
 g.
X-WR-RELCALID:5803bd6361d46817f5caf510c9c5d476
X-WR-TIMEZONE:America/New_York
BEGIN:VTIMEZONE
TZID:America/New_York
BEGIN:STANDARD
TZNAME:EST
DTSTART:20241103T020000
TZOFFSETFROM:-0400
TZOFFSETTO:-0500
RDATE:20251102T020000
END:STANDARD
BEGIN:DAYLIGHT
TZNAME:EDT
DTSTART:20250309T020000
TZOFFSETFROM:-0500
TZOFFSETTO:-0400
RDATE:20260308T020000
END:DAYLIGHT
END:VTIMEZONE
BEGIN:VEVENT
UID:c29fcfde-fec9-43f8-b127-cd69dfcf13b4
DTSTAMP:20260426T003824Z
DESCRIPTION:Pizza and drinks will be provided.  Please RSVP to Megan Dewing
 .
DTSTART;TZID=America/New_York:20250409T160000
DTEND;TZID=America/New_York:20250409T180000
LOCATION:The Arc at Market Street\, 555 South Market Street\, Frederick\, M
 D 21701 US
SUMMARY:Frederick Self Advocacy Group
END:VEVENT
END:VCALENDAR
