BEGIN:VCALENDAR
VERSION:2.0
PRODID:-//www.arcfc.org//NONSGML kigkonsult.se iCalcreator 2.30.10//
CALSCALE:GREGORIAN
METHOD:PUBLISH
UID:792ab836-1d24-4bbd-8a46-4e96c63214d1
X-WR-CALDESC:SibShops is a workshop series for kids age 8-13 who are a sibl
 ing of someone with a disability. We will discuss issues related to being 
 a sibling of someone with a disability\, play\, do crafts\, eat snacks\, a
 nd just have fun!\n\nRegistration is required.
X-WR-RELCALID:ed9f55cb3b39a71db28e0fbf1db49141
X-WR-TIMEZONE:America/New_York
BEGIN:VTIMEZONE
TZID:America/New_York
BEGIN:STANDARD
TZNAME:EST
DTSTART:20241103T020000
TZOFFSETFROM:-0400
TZOFFSETTO:-0500
RDATE:20251102T020000
END:STANDARD
BEGIN:DAYLIGHT
TZNAME:EDT
DTSTART:20240310T020000
TZOFFSETFROM:-0500
TZOFFSETTO:-0400
RDATE:20250309T020000
RDATE:20260308T020000
END:DAYLIGHT
END:VTIMEZONE
BEGIN:VEVENT
UID:ab9f73c6-71d5-4589-87e5-c0ed93a58f06
DTSTAMP:20260426T020726Z
DESCRIPTION:SibShops is a workshop series for kids age 8-13 who are a sibli
 ng of someone with a disability. We will discuss issues related to being a
  sibling of someone with a disability\, play\, do crafts\, eat snacks\, an
 d just have fun!\n\nRegistration is required.
DTSTART;TZID=America/New_York:20250308T130000
DTEND;TZID=America/New_York:20250308T160000
LOCATION:The Arc at Market Street\, 555 South Market Street\, Frederick\, M
 D 21701 US
SUMMARY:Sibshops
END:VEVENT
END:VCALENDAR
