BEGIN:VCALENDAR
VERSION:2.0
PRODID:-//www.arcfc.org//NONSGML kigkonsult.se iCalcreator 2.30.10//
CALSCALE:GREGORIAN
METHOD:PUBLISH
UID:5307bfc8-19e5-4b45-954f-3beb525dfaba
X-WR-CALDESC:
X-WR-RELCALID:b395bd35dacd0075b88db5eff5d93bf6
X-WR-TIMEZONE:America/New_York
BEGIN:VTIMEZONE
TZID:America/New_York
BEGIN:STANDARD
TZNAME:EST
DTSTART:20241103T020000
TZOFFSETFROM:-0400
TZOFFSETTO:-0500
RDATE:20251102T020000
END:STANDARD
BEGIN:DAYLIGHT
TZNAME:EDT
DTSTART:20240310T020000
TZOFFSETFROM:-0500
TZOFFSETTO:-0400
RDATE:20250309T020000
RDATE:20260308T020000
END:DAYLIGHT
END:VTIMEZONE
BEGIN:VEVENT
UID:324bb719-143f-49a2-9e81-819c56dedfdf
DTSTAMP:20260426T032715Z
DESCRIPTION:
DTSTART;TZID=America/New_York:20250217T060000
DTEND;TZID=America/New_York:20250217T060001
LOCATION:
SUMMARY:OFFICE CLOSED
END:VEVENT
END:VCALENDAR
