BEGIN:VCALENDAR
VERSION:2.0
PRODID:-//www.arcfc.org//NONSGML kigkonsult.se iCalcreator 2.30.10//
CALSCALE:GREGORIAN
METHOD:PUBLISH
UID:2363ea32-074d-4906-bbf2-05d5f5575814
X-WR-CALDESC:
X-WR-RELCALID:2e713c46963145ea5bd36e3f3b81787e
X-WR-TIMEZONE:America/New_York
BEGIN:VTIMEZONE
TZID:America/New_York
BEGIN:STANDARD
TZNAME:EST
DTSTART:20241103T020000
TZOFFSETFROM:-0400
TZOFFSETTO:-0500
RDATE:20251102T020000
END:STANDARD
BEGIN:DAYLIGHT
TZNAME:EDT
DTSTART:20240310T020000
TZOFFSETFROM:-0500
TZOFFSETTO:-0400
RDATE:20250309T020000
RDATE:20260308T020000
END:DAYLIGHT
END:VTIMEZONE
BEGIN:VEVENT
UID:fee5b13c-42ba-48ce-b60a-936753fa7a82
DTSTAMP:20260426T032510Z
DESCRIPTION:
DTSTART;TZID=America/New_York:20250217T060000
DTEND;TZID=America/New_York:20250217T060001
LOCATION:
SUMMARY:OFFICE CLOSED - PRESIDENTS' DAY
END:VEVENT
END:VCALENDAR
