BEGIN:VCALENDAR
VERSION:2.0
PRODID:-//www.arcfc.org//NONSGML kigkonsult.se iCalcreator 2.30.10//
CALSCALE:GREGORIAN
METHOD:PUBLISH
UID:4c0538ff-4e37-48c1-8b8f-cfeea92e3602
X-WR-CALDESC:Come sip some coffee and join us for our book club adventure! 
  This month's featured book is Sitting Pretty: The View From My Ordinary R
 esilient Disabled Body by Rebekah Taussig.
X-WR-RELCALID:3ad2e4e7b07edea046f3647135a99a75
X-WR-TIMEZONE:America/New_York
BEGIN:VTIMEZONE
TZID:America/New_York
BEGIN:STANDARD
TZNAME:EST
DTSTART:20241103T020000
TZOFFSETFROM:-0400
TZOFFSETTO:-0500
RDATE:20251102T020000
END:STANDARD
BEGIN:DAYLIGHT
TZNAME:EDT
DTSTART:20240310T020000
TZOFFSETFROM:-0500
TZOFFSETTO:-0400
RDATE:20250309T020000
RDATE:20260308T020000
END:DAYLIGHT
END:VTIMEZONE
BEGIN:VEVENT
UID:10e0a2a5-ed63-4ebe-8bd9-78ef36111d1e
DTSTAMP:20260426T032125Z
DESCRIPTION:Come sip some coffee and join us for our book club adventure!  
 This month's featured book is Sitting Pretty: The View From My Ordinary Re
 silient Disabled Body by Rebekah Taussig.
DTSTART;TZID=America/New_York:20250207T110000
DTEND;TZID=America/New_York:20250207T120000
LOCATION:Dublin Roasters Coffeehouse\, 1780 North Market Street\, Frederick
 \, MD 21701 US
SUMMARY:Reading Without Barriers Book Club
END:VEVENT
END:VCALENDAR
